BEGIN:VCALENDAR
VERSION:2.0
PRODID:-//France générosités//Calendrier//FR
BEGIN:VEVENT
UID:69eca1680ac17@francegenerosites.org
DTSTAMP:20260425T111136Z
DTSTART;TZID=Europe/Paris:20260610T140000
DTEND;TZID=Europe/Paris:20260610T190000
SUMMARY:Assemblée générale 2026
DESCRIPTION:
SEQUENCE:0
STATUS:CONFIRMED
END:VEVENT
END:VCALENDAR